BEGIN:VCALENDAR
VERSION:2.0
PRODID:-//North East Community Forest - ECPv6.15.20//NONSGML v1.0//EN
CALSCALE:GREGORIAN
METHOD:PUBLISH
X-ORIGINAL-URL:https://www.northeastcommunityforest.org.uk
X-WR-CALDESC:Events for North East Community Forest
REFRESH-INTERVAL;VALUE=DURATION:PT1H
X-Robots-Tag:noindex
X-PUBLISHED-TTL:PT1H
BEGIN:VTIMEZONE
TZID:Europe/London
BEGIN:DAYLIGHT
TZOFFSETFROM:+0000
TZOFFSETTO:+0100
TZNAME:BST
DTSTART:20250330T010000
END:DAYLIGHT
BEGIN:STANDARD
TZOFFSETFROM:+0100
TZOFFSETTO:+0000
TZNAME:GMT
DTSTART:20251026T010000
END:STANDARD
BEGIN:DAYLIGHT
TZOFFSETFROM:+0000
TZOFFSETTO:+0100
TZNAME:BST
DTSTART:20260329T010000
END:DAYLIGHT
BEGIN:STANDARD
TZOFFSETFROM:+0100
TZOFFSETTO:+0000
TZNAME:GMT
DTSTART:20261025T010000
END:STANDARD
BEGIN:DAYLIGHT
TZOFFSETFROM:+0000
TZOFFSETTO:+0100
TZNAME:BST
DTSTART:20270328T010000
END:DAYLIGHT
BEGIN:STANDARD
TZOFFSETFROM:+0100
TZOFFSETTO:+0000
TZNAME:GMT
DTSTART:20271031T010000
END:STANDARD
END:VTIMEZONE
BEGIN:VEVENT
DTSTART;TZID=Europe/London:20260428T100000
DTEND;TZID=Europe/London:20260428T150000
DTSTAMP:20260424T162342
CREATED:20260415T152520Z
LAST-MODIFIED:20260415T152805Z
UID:5870-1777370400-1777388400@www.northeastcommunityforest.org.uk
SUMMARY:Tyneside Badminton Centre Public Tree Planting with Northumberland Wildlife Trust
DESCRIPTION:Grab your wellies and drop in to help plant trees as part of the North East Community Forest. Northumberland Wildlife Trust will be leading the event\, and they will provide gloves\, spades\, and the trees\, alongside tips\, tricks and a little tree ID. \nThe event will run from 10:00 to 15:00\, and you’re welcome to drop in for as little or as much of the day as you’d like. \nThere will be tea and coffee available  -but if you plan to come for the whole day please bring your own lunch with you. \nPlease wear suitable clothing for the weather conditions on the day\, and note that the areas we’re planting are often muddy. \nBook your ticket now on the link below to let us know you’re coming\, and ensure that we bring enough equipment for everyone. \nNo experience necessary as we’ll be providing guidance and supervision on the day. This event is suitable for families. Under 18s must be accompanied by an adult.
URL:https://www.northeastcommunityforest.org.uk/event/tyneside-badminton-centre-public-tree-planting-with-northumberland-wildlife-trust/
LOCATION:Tyneside Badminton Centre\, NIHP Newcastle\, Bowness Rd\,\, Newcastle upon Tyne\, NE5 2TA\, United Kingdom
CATEGORIES:Volunteering
ATTACH;FMTTYPE=image/jpeg:https://www.northeastcommunityforest.org.uk/wp-content/uploads/251128A_002-scaled.jpg
END:VEVENT
END:VCALENDAR