BEGIN:VCALENDAR
VERSION:2.0
PRODID:-//North East Community Forest - ECPv6.15.20//NONSGML v1.0//EN
CALSCALE:GREGORIAN
METHOD:PUBLISH
X-WR-CALNAME:North East Community Forest
X-ORIGINAL-URL:https://www.northeastcommunityforest.org.uk
X-WR-CALDESC:Events for North East Community Forest
REFRESH-INTERVAL;VALUE=DURATION:PT1H
X-Robots-Tag:noindex
X-PUBLISHED-TTL:PT1H
BEGIN:VTIMEZONE
TZID:Europe/London
BEGIN:DAYLIGHT
TZOFFSETFROM:+0000
TZOFFSETTO:+0100
TZNAME:BST
DTSTART:20250330T010000
END:DAYLIGHT
BEGIN:STANDARD
TZOFFSETFROM:+0100
TZOFFSETTO:+0000
TZNAME:GMT
DTSTART:20251026T010000
END:STANDARD
BEGIN:DAYLIGHT
TZOFFSETFROM:+0000
TZOFFSETTO:+0100
TZNAME:BST
DTSTART:20260329T010000
END:DAYLIGHT
BEGIN:STANDARD
TZOFFSETFROM:+0100
TZOFFSETTO:+0000
TZNAME:GMT
DTSTART:20261025T010000
END:STANDARD
BEGIN:DAYLIGHT
TZOFFSETFROM:+0000
TZOFFSETTO:+0100
TZNAME:BST
DTSTART:20270328T010000
END:DAYLIGHT
BEGIN:STANDARD
TZOFFSETFROM:+0100
TZOFFSETTO:+0000
TZNAME:GMT
DTSTART:20271031T010000
END:STANDARD
END:VTIMEZONE
BEGIN:VEVENT
DTSTART;TZID=Europe/London:20260314T100000
DTEND;TZID=Europe/London:20260314T150000
DTSTAMP:20260424T164551
CREATED:20260302T081341Z
LAST-MODIFIED:20260325T114221Z
UID:5691-1773482400-1773500400@www.northeastcommunityforest.org.uk
SUMMARY:Community Tree Planting in Barlow\, Gateshead
DESCRIPTION:
URL:https://www.northeastcommunityforest.org.uk/event/community-tree-planting-in-barlow-gateshead/
LOCATION:South Farm\, Barlow\, Gateshead
CATEGORIES:Volunteering
END:VEVENT
BEGIN:VEVENT
DTSTART;TZID=Europe/London:20260328T100000
DTEND;TZID=Europe/London:20260328T140000
DTSTAMP:20260424T164551
CREATED:20260325T144154Z
LAST-MODIFIED:20260325T161046Z
UID:5740-1774692000-1774706400@www.northeastcommunityforest.org.uk
SUMMARY:Community Tree Planting in Whitehills West\, Gateshead
DESCRIPTION:
URL:https://www.northeastcommunityforest.org.uk/event/community-tree-planting-in-whitehills-west-gateshead/
LOCATION:Waldrige Gardens\, Gateshead NE9
CATEGORIES:Volunteering
ATTACH;FMTTYPE=image/jpeg:https://www.northeastcommunityforest.org.uk/wp-content/uploads/251124A_043-scaled.jpg
END:VEVENT
BEGIN:VEVENT
DTSTART;TZID=Europe/London:20260328T100000
DTEND;TZID=Europe/London:20260328T150000
DTSTAMP:20260424T164551
CREATED:20260316T104817Z
LAST-MODIFIED:20260325T160938Z
UID:5703-1774692000-1774710000@www.northeastcommunityforest.org.uk
SUMMARY:Community Tree Planting in Barlow\, Gateshead
DESCRIPTION:
URL:https://www.northeastcommunityforest.org.uk/event/community-tree-planting-in-barlow-gateshead-2/
LOCATION:South Farm\, Barlow\, Gateshead
CATEGORIES:Volunteering
ATTACH;FMTTYPE=image/jpeg:https://www.northeastcommunityforest.org.uk/wp-content/uploads/LIVING-WOODS.jpg
END:VEVENT
BEGIN:VEVENT
DTSTART;TZID=Europe/London:20260329T100000
DTEND;TZID=Europe/London:20260329T140000
DTSTAMP:20260424T164551
CREATED:20260325T145652Z
LAST-MODIFIED:20260325T161044Z
UID:5745-1774778400-1774792800@www.northeastcommunityforest.org.uk
SUMMARY:Emmaus Local Community Planting Event
DESCRIPTION:
URL:https://www.northeastcommunityforest.org.uk/event/emmaus-local-community-planting-event/
LOCATION:Emmaus Youth Village\, Allensford\, Consett\, United Kingdom
CATEGORIES:Volunteering
ATTACH;FMTTYPE=image/jpeg:https://www.northeastcommunityforest.org.uk/wp-content/uploads/YOUTHVILLAGE055-scaled.jpg
END:VEVENT
END:VCALENDAR