BEGIN:VCALENDAR
VERSION:2.0
PRODID:-//North East Community Forest - ECPv6.15.20//NONSGML v1.0//EN
CALSCALE:GREGORIAN
METHOD:PUBLISH
X-WR-CALNAME:North East Community Forest
X-ORIGINAL-URL:https://www.northeastcommunityforest.org.uk
X-WR-CALDESC:Events for North East Community Forest
REFRESH-INTERVAL;VALUE=DURATION:PT1H
X-Robots-Tag:noindex
X-PUBLISHED-TTL:PT1H
BEGIN:VTIMEZONE
TZID:Europe/London
BEGIN:DAYLIGHT
TZOFFSETFROM:+0000
TZOFFSETTO:+0100
TZNAME:BST
DTSTART:20250330T010000
END:DAYLIGHT
BEGIN:STANDARD
TZOFFSETFROM:+0100
TZOFFSETTO:+0000
TZNAME:GMT
DTSTART:20251026T010000
END:STANDARD
BEGIN:DAYLIGHT
TZOFFSETFROM:+0000
TZOFFSETTO:+0100
TZNAME:BST
DTSTART:20260329T010000
END:DAYLIGHT
BEGIN:STANDARD
TZOFFSETFROM:+0100
TZOFFSETTO:+0000
TZNAME:GMT
DTSTART:20261025T010000
END:STANDARD
BEGIN:DAYLIGHT
TZOFFSETFROM:+0000
TZOFFSETTO:+0100
TZNAME:BST
DTSTART:20270328T010000
END:DAYLIGHT
BEGIN:STANDARD
TZOFFSETFROM:+0100
TZOFFSETTO:+0000
TZNAME:GMT
DTSTART:20271031T010000
END:STANDARD
END:VTIMEZONE
BEGIN:VEVENT
DTSTART;TZID=Europe/London:20260205T100000
DTEND;TZID=Europe/London:20260205T120000
DTSTAMP:20260424T181843
CREATED:20260202T143520Z
LAST-MODIFIED:20260202T144756Z
UID:5533-1770285600-1770292800@www.northeastcommunityforest.org.uk
SUMMARY:Ushaw Historic House - community woodland planting
DESCRIPTION:Woodland planting at Ushaw
URL:https://www.northeastcommunityforest.org.uk/event/ushaw-historic-house-community-woodland-planting/
LOCATION:Ushaw House\, Ushaw Historic House Chapels & Gardens\, near Durham City\, DH7 7DW\, United Kingdom
CATEGORIES:Volunteering
END:VEVENT
BEGIN:VEVENT
DTSTART;TZID=Europe/London:20260212T100000
DTEND;TZID=Europe/London:20260212T120000
DTSTAMP:20260424T181843
CREATED:20260202T144730Z
LAST-MODIFIED:20260202T152713Z
UID:5536-1770890400-1770897600@www.northeastcommunityforest.org.uk
SUMMARY:Ushaw Historic House - community woodland planting
DESCRIPTION:Woodland planting at Ushaw
URL:https://www.northeastcommunityforest.org.uk/event/ushaw-historic-house-community-woodland-planting-2/
LOCATION:Ushaw House\, Ushaw Historic House Chapels & Gardens\, near Durham City\, DH7 7DW\, United Kingdom
CATEGORIES:Volunteering
ATTACH;FMTTYPE=image/png:https://www.northeastcommunityforest.org.uk/wp-content/uploads/12032024_Ushaw-.png
END:VEVENT
BEGIN:VEVENT
DTSTART;TZID=Europe/London:20260226T100000
DTEND;TZID=Europe/London:20260226T140000
DTSTAMP:20260424T181843
CREATED:20260218T110012Z
LAST-MODIFIED:20260218T143939Z
UID:5211-1772100000-1772114400@www.northeastcommunityforest.org.uk
SUMMARY:Hazelrigg Parish Council community planting
DESCRIPTION:Planting a small\, shelterbelt woodland on an area of public green space. Everyone is welcome – drop in whenever you can make it. No prior experience needed – everything is provided.
URL:https://www.northeastcommunityforest.org.uk/event/hazelrigg-parish-council-community-planting/
CATEGORIES:Volunteering
ORGANIZER;CN="NECF":MAILTO:info@necf.org.uk
END:VEVENT
BEGIN:VEVENT
DTSTART;TZID=Europe/London:20260228T103000
DTEND;TZID=Europe/London:20260228T143000
DTSTAMP:20260424T181843
CREATED:20260206T115444Z
LAST-MODIFIED:20260210T171314Z
UID:5554-1772274600-1772289000@www.northeastcommunityforest.org.uk
SUMMARY:Family Tree Planting at Milkwellburn Woods
DESCRIPTION:Join Durham Wildlife Trust for a family tree planting session at Milkwellburn Woods.
URL:https://www.northeastcommunityforest.org.uk/event/family-tree-planting-at-milkwellburn-woods/
CATEGORIES:Volunteering
END:VEVENT
END:VCALENDAR